BEGIN:VCALENDAR
VERSION:2.0
PRODID:-//pretix//pretix.eu//
BEGIN:VTIMEZONE
TZID:Europe/Berlin
BEGIN:STANDARD
DTSTART:20001029T040000
RRULE:FREQ=YEARLY;BYDAY=-1SU;BYMONTH=10
TZNAME:CET
TZOFFSETFROM:+0200
TZOFFSETTO:+0100
END:STANDARD
BEGIN:DAYLIGHT
DTSTART:20000326T030000
RRULE:FREQ=YEARLY;BYDAY=-1SU;BYMONTH=3
TZNAME:CEST
TZOFFSETFROM:+0100
TZOFFSETTO:+0200
END:DAYLIGHT
END:VTIMEZONE
BEGIN:VEVENT
UID:pretix-dcbib-dkf2305SL-0@billet.dcbib.dk
DTSTART;TZID=Europe/Berlin:20260523T110000
DTEND;TZID=Europe/Berlin:20260523T120000
DESCRIPTION:Billetter: https://billet.dcbib.dk/dkf2305SL/\nOrganizer: Dansk
  Centralbibliotek for Sydslesvig
DTSTAMP:20260421T112018Z
LOCATION:Slesvig Bibliotek\, Bismarckstraße 18A\, 24837 Schleswig
SUMMARY:Dansk for familien (i Slesvig)
END:VEVENT
END:VCALENDAR
